BEGIN:VCALENDAR
VERSION:2.0
PRODID:-//Santa Fe Turismo - ECPv6.15.17//NONSGML v1.0//EN
CALSCALE:GREGORIAN
METHOD:PUBLISH
X-ORIGINAL-URL:https://www.santafe.tur.ar
X-WR-CALDESC:Eventos para Santa Fe Turismo
REFRESH-INTERVAL;VALUE=DURATION:PT1H
X-Robots-Tag:noindex
X-PUBLISHED-TTL:PT1H
BEGIN:VTIMEZONE
TZID:UTC
BEGIN:STANDARD
TZOFFSETFROM:+0000
TZOFFSETTO:+0000
TZNAME:UTC
DTSTART:20250101T000000
END:STANDARD
END:VTIMEZONE
BEGIN:VEVENT
DTSTART;TZID=UTC:20260214T210000
DTEND;TZID=UTC:20260214T235900
DTSTAMP:20260419T092708
CREATED:20251128T182148Z
LAST-MODIFIED:20260206T173554Z
UID:4195-1771102800-1771113540@www.santafe.tur.ar
SUMMARY:35° Fiesta Regional de la Cerveza
DESCRIPTION:Tradicional fiesta gastronómica que contará con las actuaciones de: \n\nZillertal Orchester\nGerardo Farías y la Sonora\nKlandestinos\nDJ Tin\nSúper impacto\nHernán Narváez\n\nAdemás\, elección de Embajadora\, comidas al paso\, comedor\, bar y barra de tragos. \nSe cuenta con  sanitarios\, sombra\, juegos  y las mejores delicias en tortas alemanas. \nLugar: Plaza San Martín \nMás info: IG @todoturismosto.dgo \n  \n 
URL:https://www.santafe.tur.ar/evento/fiesta-de-la-cerveza/
CATEGORIES:Fiesta regional,gastronomica
ATTACH;FMTTYPE=image/jpeg:https://www.santafe.tur.ar/wp-content/uploads/sites/91/2025/11/FLYER.jpg.jpeg
END:VEVENT
END:VCALENDAR